BEGIN:VCALENDAR
VERSION:2.0
PRODID:-//ChamberMaster//Event Calendar 2.0//EN
METHOD:PUBLISH
X-PUBLISHED-TTL:P3D
REFRESH-INTERVAL:P3D
CALSCALE:GREGORIAN
BEGIN:VEVENT
DTSTART:20260410T160000Z
DTEND:20260410T220000Z
X-MICROSOFT-CDO-ALLDAYEVENT:FALSE
SUMMARY:2026 CEC Golf Classic
DESCRIPTION:We invite you to join us for the 2026 CEC Golf Classic on Friday\, April 10\, 2026\, at Iron Horse Golf Course. \n\n\n\nRegistration begins at 11 a.m.\, with a 1 p.m. tee time. This meaningful day on the course is more than just a great opportunity to connect with fellow community leaders - it's a chance to make a real difference for families in need.\n\n\n\nEach day\, nearly 200 families rely on our Food Pantry - the largest in Tarrant County - and many more are served through our housing and financial coaching programs. We hope you will join us as a golf sponsor and help the CEC transform lives through restoring hope.
X-ALT-DESC;FMTTYPE=text/html:<p><span style="font-size:14px\;"><span style="font-family:arial\;"><strong>We invite you to join us for the 2026 CEC Golf Classic on Friday\, April 10\, 2026\, at Iron Horse Golf Course. </strong><br />\n<br />\nRegistration begins at 11 a.m.\, with a 1 p.m. tee time. This meaningful day on the course is more than just a great opportunity to connect with fellow community leaders - it&rsquo\;s a chance to make a real difference for families in need.<br />\n<br />\nEach day\, nearly 200 families rely on our Food Pantry - the largest in Tarrant County - and many more are served through our housing and financial coaching programs. We hope you will join us as a golf sponsor and help the CEC transform lives through restoring hope.</span></span></p>\n
LOCATION:Iron Horse Golf Course 6200 Skylark Circle North Richland Hills\, TX 76180
UID:e.2524.30506
SEQUENCE:3
DTSTAMP:20260424T033930Z
URL:http://hebtx.chambermaster.com/events/details/2026-cec-golf-classic-30506
END:VEVENT

END:VCALENDAR
